Workbook

Sheet Read Me
A1: 📘 READ ME FIRST – HOW TO USE THIS TOOL
A2: Please reference The Official Guide for full overview - but this is also key information!
A3: 🎯 Purpose
A4: This tool is designed to help you get clear on your full financial picture — income, bills, savings, investments, account flows, and long-term projections. It’s meant to guide better decisions, not be lived in daily. Expect to revisit and adjust it as your income and life evolve.
A6: 🧭 How to Use It
A7: Work through each tab in this order:
A8: 1. Income & Expenses - The Financial Picture
A9: 2. Allocation Strategy - Rooted in Conscious Spending
A10: 3. Account Flow - To Align and See Where Your Money Goes
A11: 4. Projections - See Where You Savings & Investments Can Take You!
A13: Guidelines: | C13: Input Color!
A14: - Blue Fields are inputs - all other colors are not inputs.
A15: - Most of the workbook is already automated with formulas.
A16: - Be cautious when deleting or typing over cells.
A17: - If you're unsure, follow the structure of existing entries.
A18: - Customize your categories and use your own numbers — the tool is built to adapt to you.
A19: - Use it monthly or quarterly to make better financial decisions.
A21: ⚙️ Automation Notes
A22: - Formulas are built in — only edit where indicated.
A23: - If you want to add:
A24: - New buckets
A25: - New categories
A26: - New accounts
... A31: As Always - Master Your Money. Secure Your Future - Malachi Battle.

Sheet Income & Expense Overview
A1: Income Overview
A2: Income Stream | B2: Pay Frequency | C2: Date | D2: Amount | E2: Notes | F2: Sums | G2: Month Income Total | H2: Excess Income
B3: Bi-Weekly | C3: 5th | D3: 1000 | F3: =IF(B3="Bi-Weekly", D3*2, IF(B3="Monthly", D3, IF(B3="Weekly", D3*4, 0))) -> 2000 | G3: =SUM(F3:F7) -> 2000 | H3: =G3-H11 -> 85
F4: =IF(C4="Bi-Weekly", E4*2, IF(C4="Monthly", E4, IF(C4="Weekly", E4*4, 0))) -> 0 | G4: =SUM(F4:F8) -> 0
F5: =IF(C5="Bi-Weekly", E5*2, IF(C5="Monthly", E5, IF(C5="Weekly", E5*4, 0))) -> 0 | G5: =SUM(F5:F9) -> 0
F6: =IF(C6="Bi-Weekly", E6*2, IF(C6="Monthly", E6, IF(C6="Weekly", E6*4, 0))) -> 0 | G6: =SUM(F6:F10) -> 0
F7: =IF(C7="Bi-Weekly", E7*2, IF(C7="Monthly", E7, IF(C7="Weekly", E7*4, 0))) -> 0 | G7: =SUM(F7:F11) -> 500
A9: Expenses Overview
A10: Category | B10: Expense | C10: Bill Frequency | D10: Date | E10: Amount | F10: Sums | G10: Category Total | H10: Monthly Exepense Total | I10: Only input Categort - Amount. Sums and Beyon is automatically calculated.
A11: Living Expenses | B11: Rent | C11: Monthly | D11: 12th | E11: 500 | F11: =IF(C11="Bi-Weekly", E11*2, IF(C11="Monthly", E11, IF(C11="Weekly", E11*4, 0))) -> 500 | G11: =SUM(F11:F22) -> 760 | H11: =SUM(ExpenseOverview[Category Total ]) -> 1915
B12: Geico Car Insurance | C12: Monthly | D12: 11th | E12: 20 | F12: =IF(C12="Bi-Weekly", E12*2, IF(C12="Monthly", E12, IF(C12="Weekly", E12*4, 0))) -> 20 | H12: Category | I12: Amount | J12: % Of Income
B13: Car Payment | C13: Bi-Weekly | D13: 1st and 15th | E13: 20 | F13: =IF(C13="Bi-Weekly", E13*2, IF(C13="Monthly", E13, IF(C13="Weekly", E13*4, 0))) -> 40 | H13: Fixed Expenses | I13: =SUM($G$11,$G$37) -> 1651 | J13: =I13/$I$18 -> 0.8255
B14: Utilities | C14: Monthly | D14: 1st | E14: 200 | F14: =IF(C14="Bi-Weekly", E14*2, IF(C14="Monthly", E14, IF(C14="Weekly", E14*4, 0))) -> 200 | H14: Variable Expenses | I14: =$G$23 -> 264 | J14: =I14/$I$18 -> 0.132
F15: =IF(C15="Bi-Weekly", E15*2, IF(C15="Monthly", E15, IF(C15="Weekly", E15*4, 0))) -> 0 | H15: Savings | I15: ='Allocation Strategy'!B16*'Allocation Strategy'!B1 -> 38.25 | J15: =I15/$I$18 -> 0.019125
F16: =IF(C16="Bi-Weekly", E16*2, IF(C16="Monthly", E16, IF(C16="Weekly", E16*4, 0))) -> 0 | H16: Investments | I16: ='Allocation Strategy'!B17*'Allocation Strategy'!B1 -> 25.5 | J16: =I16/$I$18 -> 0.01275
F17: =IF(C17="Bi-Weekly", E17*2, IF(C17="Monthly", E17, IF(C17="Weekly", E17*4, 0))) -> 0 | H17: Personal spending | I17: ='Allocation Strategy'!B18*'Allocation Strategy'!B1 -> 21.25 | J17: =I17/$I$18 -> 0.010625
F18: =IF(C18="Bi-Weekly", E18*2, IF(C18="Monthly", E18, IF(C18="Weekly", E18*4, 0))) -> 0 | H18: Total | I18: =SUM(I13:I17) -> 2000 | J18: =SUM(J13:J18) -> 1
F19: =IF(C19="Bi-Weekly", E19*2, IF(C19="Monthly", E19, IF(C19="Weekly", E19*4, 0))) -> 0
F20: =IF(C20="Bi-Weekly", E20*2, IF(C20="Monthly", E20, IF(C20="Weekly", E20*4, 0))) -> 0
F21: =IF(C21="Bi-Weekly", E21*2, IF(C21="Monthly", E21, IF(C21="Weekly", E21*4, 0))) -> 0
F22: =IF(C22="Bi-Weekly", E22*2, IF(C22="Monthly", E22, IF(C22="Weekly", E22*4, 0))) -> 0
A23: Faith, Charity, and Subscriptions | B23: Tithes | C23: Bi-Weekly | D23: 5th and 21st | E23: 100 | F23: =IF(C23="Bi-Weekly", E23*2, IF(C23="Monthly", E23, IF(C23="Weekly", E23*4, 0))) -> 200 | G23: =SUM(F23:F36) -> 264
B24: ChatGPT | C24: Monthly | D24: 20th | E24: 20 | F24: =IF(C24="Bi-Weekly", E24*2, IF(C24="Monthly", E24, IF(C24="Weekly", E24*4, 0))) -> 20
B25: Audible | C25: Monthly | D25: 19th | E25: 6 | F25: =IF(C25="Bi-Weekly", E25*2, IF(C25="Monthly", E25, IF(C25="Weekly", E25*4, 0))) -> 6
B26: Amazon Prime | C26: Monthly | D26: 13th | E26: 16 | F26: =IF(C26="Bi-Weekly", E26*2, IF(C26="Monthly", E26, IF(C26="Weekly", E26*4, 0))) -> 16
B27: Rocket Money | C27: Monthly | D27: 2nd | E27: 7 | F27: =IF(C27="Bi-Weekly", E27*2, IF(C27="Monthly", E27, IF(C27="Weekly", E27*4, 0))) -> 7
B28: Gym | C28: Monthly | D28: 1st | E28: 15 | F28: =IF(C28="Bi-Weekly", E28*2, IF(C28="Monthly", E28, IF(C28="Weekly", E28*4, 0))) -> 15
F29: =IF(C29="Bi-Weekly", E29*2, IF(C29="Monthly", E29, IF(C29="Weekly", E29*4, 0))) -> 0
F30: =IF(C30="Bi-Weekly", E30*2, IF(C30="Monthly", E30, IF(C30="Weekly", E30*4, 0))) -> 0
F31: =IF(C31="Bi-Weekly", E31*2, IF(C31="Monthly", E31, IF(C31="Weekly", E31*4, 0))) -> 0
F32: =IF(C32="Bi-Weekly", E32*2, IF(C32="Monthly", E32, IF(C32="Weekly", E32*4, 0))) -> 0
F33: =IF(C33="Bi-Weekly", E33*2, IF(C33="Monthly", E33, IF(C33="Weekly", E33*4, 0))) -> 0
F34: =IF(C34="Bi-Weekly", E34*2, IF(C34="Monthly", E34, IF(C34="Weekly", E34*4, 0))) -> 0
F35: =IF(C35="Bi-Weekly", E35*2, IF(C35="Monthly", E35, IF(C35="Weekly", E35*4, 0))) -> 0
F36: =IF(C36="Bi-Weekly", E36*2, IF(C36="Monthly", E36, IF(C36="Weekly", E36*4, 0))) -> 0
A37: Debt | B37: Student Loans | C37: Monthly | D37: 12th | E37: 215 | F37: =IF(C37="Bi-Weekly", E37*2, IF(C37="Monthly", E37, IF(C37="Weekly", E37*4, 0))) -> 215 | G37: =SUM(F37:F49) -> 891
B38: Equipment Loan | C38: Weekly | D38: 1st, 8th, 15th, 22nd | E38: 69 | F38: =IF(C38="Bi-Weekly", E38*2, IF(C38="Monthly", E38, IF(C38="Weekly", E38*4, 0))) -> 276
B39: Furniture | C39: Weekly | D39: 1st, 8th, 15th, 22nd | E39: 100 | F39: =IF(C39="Bi-Weekly", E39*2, IF(C39="Monthly", E39, IF(C39="Weekly", E39*4, 0))) -> 400
F40: =IF(C40="Bi-Weekly", E40*2, IF(C40="Monthly", E40, IF(C40="Weekly", E40*4, 0))) -> 0
F41: =IF(C41="Bi-Weekly", E41*2, IF(C41="Monthly", E41, IF(C41="Weekly", E41*4, 0))) -> 0
...

Sheet Allocation Strategy
A1: Excess Income | B1: ='Income & Expense Overview'!H3 -> 85
A2: Category | B2: Percent of Excess Income | C2: Amount - Output | D2: Priority Grouping | E2: Notes / Purpose | F2: Top Level Category
A3: Emergency Fund | B3: 0.1 | C3: =B3*$B$1 -> 8.5 | D3: Core Savings | E3: Covers 3-6 months or urgent needs | F3: Savings
A4: Unexpected Expenses | B4: 0.15 | C4: =B4*$B$1 -> 12.75 | D4: Core Savings | E4: Car repairs, medical, etc. | F4: Savings
A5: Major Milestones Fund | B5: 0.1 | C5: =B5*$B$1 -> 8.5 | D5: Long-Term Savings | E5: Home, wedding, major purchase | F5: Savings
A6: Experience/Dev Fund | B6: 0.1 | C6: =B6*$B$1 -> 8.5 | D6: Lifestyle + Growth | E6: Travel, events, personal growth | F6: Savings
A7: Roth IRA | B7: 0.1 | C7: =B7*$B$1 -> 8.5 | D7: Investments | E7: Long-term, tax-free retirement | F7: Investments
A8: Personal Brokerage | B8: 0.15 | C8: =B8*$B$1 -> 12.75 | D8: Investments | E8: Flexible investment account | F8: Investments
A9: Business Brokerage | B9: 0.05 | C9: =B9*$B$1 -> 4.25 | D9: Business / Side Hustle Growth | E9: Investing in equipment or ads | F9: Investments
A10: Checking Buffer / Flex | B10: 0.1 | C10: =B10*$B$1 -> 8.5 | D10: Cash Flow | E10: Unallocated cash or checking buffer | F10: Personal Spending
A11: Tithes / Giving (Extra) | B11: 0.05 | C11: =B11*$B$1 -> 4.25 | D11: Optional / Values-Aligned Giving | E11: If you want to give extra beyond fixed | F11: Personal Spending
A12: Personal Spending | B12: 0.1 | C12: =B12*$B$1 -> 8.5 | D12: Lifestyle + Growth | E12: Personal spending to purchase items/things you like! | F12: Personal Spending
A13: Total | B13: =SUM(AllocationStrategy1[Percent of Excess Income]) -> 1 | C13: =SUM(AllocationStrategy1[Amount - Output]) -> 85
A14: =IF(ABS(SUM(AllocationStrategy1[[#All],[Percent of Excess Income]])-1)<0.001, "✅ All Good - Your Conscious Spending Plan is Active", IF(SUM(AllocationStrategy1[[#All],[Percent of Excess Income]])>1, "⚠️ Overallocated! Your excess income cannot support this", "⚠️ Not fully allocated - Flesh out your plan some more!")) -> ✅ All Good - Your Conscious Spending Plan is Active
A15: Top Level Categories | B15: Total Percent
A16: Savings | B16: =SUMIFS(AllocationStrategy1[Percent of Excess Income], AllocationStrategy1[Top Level Category], "Savings") -> 0.45
A17: Investments | B17: =SUMIFS(AllocationStrategy1[Percent of Excess Income], AllocationStrategy1[Top Level Category], "Investments") -> 0.3
A18: Personal Spending | B18: =SUMIFS(AllocationStrategy1[Percent of Excess Income], AllocationStrategy1[Top Level Category], "Personal Spending") -> 0.25

Sheet Account Flow
A1: Main Income Deposit Account - MONTHLY OVERVIEW | G1: Bill Automation
A2: Description | B2: Amount | C2: Notes | D2: Credit Card Payoff Total (Paid Through BILL CHECKING) | E2: =SUMIFS(H3:H15, K3:K15, "Credit Card") -> 731 | G2: Bill Name | H2: Amount | I2: Due Date | J2: Automated | K2: Notes/Method | L2: Notes/Reason | M2: Your Bills will populate here. Input whether it's automated or not, add your notes as well.
A3: Monthly Total | B3: ='Income & Expense Overview'!G3 -> 2000 | C3: Net income after taxes, retirement accounts, and additional benefits. | G3: {=_xlfn._xlws.FILTER(ExpenseOverview[Expense], ExpenseOverview[Amount]<>"")} -> Rent | H3: {=_xlfn._xlws.FILTER(ExpenseOverview[Sums], ExpenseOverview[Amount]<>"")} -> 500 | I3: {=_xlfn._xlws.FILTER(ExpenseOverview[Date], ExpenseOverview[Amount]<>"")} -> 12th | J3: Yes | K3: Credit Card
A4: Transfers Out | B4: ='Income & Expense Overview'!H11+(('Allocation Strategy'!B16+'Allocation Strategy'!B17)*'Allocation Strategy'!B1) -> 1978.75 | C4: Sum of all automated account transfers. This is all of your bills + your conscious spending allocations. This does not include personal spending | G4: Geico Car Insurance | H4: 20 | I4: 11th | J4: Yes | K4: Bill Checking
A5: Remaining Buffer - Personal Spending | B5: =B3-B4 -> 21.25 | C5: This is all of your guilt-free personal spending money. | G5: Car Payment | H5: 40 | I5: 1st and 15th | J5: Yes | K5: Zelle
A6: Automate all transfers to Flow accounts based on your pay schedule. This is a monthly overview, so bi-weekly numbers mean all of these number are halved! | G6: Utilities | H6: 200 | I6: 1st | J6: No | K6: Credit Card | L6: Billing schedule and bill amount varies
A7: The amount of money transferred to flow accounts depend on your bills and your allocation strategy. | G7: Tithes | H7: 200 | I7: 5th and 21st | J7: Yes | K7: Credit Card
G8: ChatGPT | H8: 20 | I8: 20th | J8: Yes | K8: Credit Card
A9: Flow Accounts | B9: Amounts Transferred | C9: Purpose/Notes | G9: Audible | H9: 6 | I9: 19th | J9: Yes | K9: Bill Checking
A10: Bill Checking | B10: ='Income & Expense Overview'!H11 -> 1915 | C10: Pays all of your bills | G10: Amazon Prime | H10: 16 | I10: 13th | J10: Yes | K10: Credit Card
A11: HYSA | B11: ='Allocation Strategy'!B1*'Allocation Strategy'!B16 -> 38.25 | C11: Conscious Spending Savings Bucket | G11: Rocket Money | H11: 7 | I11: 2nd | J11: Yes | K11: Bill Checking
A12: Investment Platform | B12: ='Allocation Strategy'!B17*'Allocation Strategy'!B1 -> 25.5 | C12: Conscious Spending Investment Bucket | G12: Gym | H12: 15 | I12: 1st | J12: Yes | K12: Credit Card
G13: Student Loans | H13: 215 | I13: 12th | J13: No | K13: Bill Checking | L13: I have an income driven repayment plan
A14: Conscious Spending Buckets | G14: Equipment Loan | H14: 276 | I14: 1st, 8th, 15th, 22nd | J14: No | K14: Bill Checking | L14: I pay when I am able to
A15: Flow Accounts | B15: Sub Account Transfers | C15: Amount | G15: Furniture | H15: 400 | I15: 1st, 8th, 15th, 22nd | J15: No | K15: Bill Checking | L15: I pay when I am able to
A16: HYSA | B16: → Emergency Fund | C16: ='Allocation Strategy'!C3 -> 8.5
A17: HYSA | B17: → Experiences | C17: ='Allocation Strategy'!C6 -> 8.5
A18: HYSA | B18: → Major Milestones | C18: ='Allocation Strategy'!C5 -> 8.5
A19: Investment Platform | B19: → Roth IRA | C19: ='Allocation Strategy'!C7 -> 8.5
A20: Investment Platform | B20: → Personal Brokerage | C20: ='Allocation Strategy'!C8 -> 12.75
A21: Investment Platform | B21: → Business Brokerage | C21: ='Allocation Strategy'!C9 -> 4.25

Sheet Projections
A1: Investments | F1: Projections
A2: Account | B2: Monthly Contribution | C2: Annual Return (%) | D2: Starting Balance | F2: Year | G2: =A3 -> Roth IRA | H2: =A4 -> Personal Brokerage | I2: =A5 -> Business Brokerage
A3: Roth IRA | B3: ='Allocation Strategy'!C7 -> 8.5 | C3: 0.08 | D3: 0 | F3: 5 | G3: =FV($C$3/12,F3*12,-$B$3,-$D$3) -> 624.55328 | H3: =FV($C$4/12,F3*12,-$B$4,-$D$4) -> 624.55328 | I3: =FV($C$5/12,F3*12,-$B$5,-$D$5) -> 312.27664
A4: Personal Brokerage | B4: ='Allocation Strategy'!C5 -> 8.5 | C4: 0.08 | D4: 0 | F4: 10 | G4: =FV($C$3/12,F4*12,-$B$3,-$D$3) -> 1555.0413 | H4: =FV($C$4/12,F4*12,-$B$4,-$D$4) -> 1555.0413 | I4: =FV($C$5/12,F4*12,-$B$5,-$D$5) -> 777.52065
A5: Business Brokerage | B5: ='Allocation Strategy'!C9 -> 4.25 | C5: 0.08 | D5: 0 | F5: 15 | G5: =FV($C$3/12,F5*12,-$B$3,-$D$3) -> 2941.3249 | H5: =FV($C$4/12,F5*12,-$B$4,-$D$4) -> 2941.3249 | I5: =FV($C$5/12,F5*12,-$B$5,-$D$5) -> 1470.6624
F6: 20 | G6: =FV($C$3/12,F6*12,-$B$3,-$D$3) -> 5006.6735 | H6: =FV($C$4/12,F6*12,-$B$4,-$D$4) -> 5006.6735 | I6: =FV($C$5/12,F6*12,-$B$5,-$D$5) -> 2503.3368
A7: Play around with the monthly contributions and annual return. Update the monthly contributions in the allocation strategy tab. Change the annual returns in this tab. | F7: 25 | G7: =FV($C$3/12,F7*12,-$B$3,-$D$3) -> 8083.7244 | H7: =FV($C$4/12,F7*12,-$B$4,-$D$4) -> 8083.7244 | I7: =FV($C$5/12,F7*12,-$B$5,-$D$5) -> 4041.8622
F8: 30 | G8: =FV($C$3/12,F8*12,-$B$3,-$D$3) -> 12668.055 | H8: =FV($C$4/12,F8*12,-$B$4,-$D$4) -> 12668.055 | I8: =FV($C$5/12,F8*12,-$B$5,-$D$5) -> 6334.0277
F9: 35 | G9: =FV($C$3/12,F9*12,-$B$3,-$D$3) -> 19498.001 | H9: =FV($C$4/12,F9*12,-$B$4,-$D$4) -> 19498.001 | I9: =FV($C$5/12,F9*12,-$B$5,-$D$5) -> 9749.0006
F10: 40 | G10: =FV($C$3/12,F10*12,-$B$3,-$D$3) -> 29673.567 | H10: =FV($C$4/12,F10*12,-$B$4,-$D$4) -> 29673.567 | I10: =FV($C$5/12,F10*12,-$B$5,-$D$5) -> 14836.783
A12: Savings | F12: Projections
A13: Account | B13: Monthly Contribution | C13: Annual Return (%) | D13: Starting Balance | F13: Year | G13: =A14 -> Emergency Fund | H13: =A15 -> Major Milestones | I13: =A16 -> Experiences
A14: Emergency Fund | B14: ='Allocation Strategy'!C3 -> 8.5 | C14: 0.038 | D14: 0 | F14: 5 | G14: =FV($C$14/12,F3*12,-$B$14,-$D$14) -> 560.69571 | H14: =FV($C$15/12,F3*12,-$B$15,-$D$15) -> 560.69571 | I14: =FV($C$16/12,F3*12,-$B$16,-$D$16) -> 560.69571
A15: Major Milestones | B15: ='Allocation Strategy'!C5 -> 8.5 | C15: 0.038 | D15: 0 | F15: 10 | G15: =FV($C$14/12,F4*12,-$B$14,-$D$14) -> 1238.5133 | H15: =FV($C$15/12,F4*12,-$B$15,-$D$15) -> 1238.5133 | I15: =FV($C$16/12,F4*12,-$B$16,-$D$16) -> 1238.5133
A16: Experiences | B16: ='Allocation Strategy'!C6 -> 8.5 | C16: 0.038 | D16: 0 | F16: 15 | G16: =FV($C$14/12,F5*12,-$B$14,-$D$14) -> 2057.9178 | H16: =FV($C$15/12,F5*12,-$B$15,-$D$15) -> 2057.9178 | I16: =FV($C$16/12,F5*12,-$B$16,-$D$16) -> 2057.9178
F17: 20 | G17: =FV($C$14/12,F6*12,-$B$14,-$D$14) -> 3048.4851 | H17: =FV($C$15/12,F6*12,-$B$15,-$D$15) -> 3048.4851 | I17: =FV($C$16/12,F6*12,-$B$16,-$D$16) -> 3048.4851
F18: 25 | G18: =FV($C$14/12,F7*12,-$B$14,-$D$14) -> 4245.9686 | H18: =FV($C$15/12,F7*12,-$B$15,-$D$15) -> 4245.9686 | I18: =FV($C$16/12,F7*12,-$B$16,-$D$16) -> 4245.9686
F19: 30 | G19: =FV($C$14/12,F8*12,-$B$14,-$D$14) -> 5693.5904 | H19: =FV($C$15/12,F8*12,-$B$15,-$D$15) -> 5693.5904 | I19: =FV($C$16/12,F8*12,-$B$16,-$D$16) -> 5693.5904
F20: 35 | G20: =FV($C$14/12,F9*12,-$B$14,-$D$14) -> 7443.601 | H20: =FV($C$15/12,F9*12,-$B$15,-$D$15) -> 7443.601 | I20: =FV($C$16/12,F9*12,-$B$16,-$D$16) -> 7443.601
F21: 40 | G21: =FV($C$14/12,F10*12,-$B$14,-$D$14) -> 9559.1655 | H21: =FV($C$15/12,F10*12,-$B$15,-$D$15) -> 9559.1655 | I21: =FV($C$16/12,F10*12,-$B$16,-$D$16) -> 9559.1655
